BEGIN:VCALENDAR
VERSION:2.0
PRODID:-//Tennisclub Entfelden - ECPv6.15.20//NONSGML v1.0//EN
CALSCALE:GREGORIAN
METHOD:PUBLISH
X-WR-CALNAME:Tennisclub Entfelden
X-ORIGINAL-URL:https://www.tc-entfelden.ch
X-WR-CALDESC:Veranstaltungen im Tennisclub Entfelden
REFRESH-INTERVAL;VALUE=DURATION:PT1H
X-Robots-Tag:noindex
X-PUBLISHED-TTL:PT1H
BEGIN:VTIMEZONE
TZID:Europe/Zurich
BEGIN:DAYLIGHT
TZOFFSETFROM:+0100
TZOFFSETTO:+0200
TZNAME:CEST
DTSTART:20230326T010000
END:DAYLIGHT
BEGIN:STANDARD
TZOFFSETFROM:+0200
TZOFFSETTO:+0100
TZNAME:CET
DTSTART:20231029T010000
END:STANDARD
BEGIN:DAYLIGHT
TZOFFSETFROM:+0100
TZOFFSETTO:+0200
TZNAME:CEST
DTSTART:20240331T010000
END:DAYLIGHT
BEGIN:STANDARD
TZOFFSETFROM:+0200
TZOFFSETTO:+0100
TZNAME:CET
DTSTART:20241027T010000
END:STANDARD
BEGIN:DAYLIGHT
TZOFFSETFROM:+0100
TZOFFSETTO:+0200
TZNAME:CEST
DTSTART:20250330T010000
END:DAYLIGHT
BEGIN:STANDARD
TZOFFSETFROM:+0200
TZOFFSETTO:+0100
TZNAME:CET
DTSTART:20251026T010000
END:STANDARD
BEGIN:DAYLIGHT
TZOFFSETFROM:+0100
TZOFFSETTO:+0200
TZNAME:CEST
DTSTART:20260329T010000
END:DAYLIGHT
BEGIN:STANDARD
TZOFFSETFROM:+0200
TZOFFSETTO:+0100
TZNAME:CET
DTSTART:20261025T010000
END:STANDARD
BEGIN:DAYLIGHT
TZOFFSETFROM:+0100
TZOFFSETTO:+0200
TZNAME:CEST
DTSTART:20270328T010000
END:DAYLIGHT
BEGIN:STANDARD
TZOFFSETFROM:+0200
TZOFFSETTO:+0100
TZNAME:CET
DTSTART:20271031T010000
END:STANDARD
END:VTIMEZONE
BEGIN:VTIMEZONE
TZID:UTC
BEGIN:STANDARD
TZOFFSETFROM:+0000
TZOFFSETTO:+0000
TZNAME:UTC
DTSTART:20220101T000000
END:STANDARD
END:VTIMEZONE
BEGIN:VEVENT
DTSTART;VALUE=DATE:20260219
DTEND;VALUE=DATE:20260220
DTSTAMP:20260423T060530
CREATED:20250928T193630Z
LAST-MODIFIED:20250928T193751Z
UID:7418-1771459200-1771545599@www.tc-entfelden.ch
SUMMARY:37. Generalversammlung
DESCRIPTION:Gerne laden wir sämtliche Mitglieder des TC Entfelden am 19. Februar 2026 zur 37. Generalversammlung ein.
URL:https://www.tc-entfelden.ch/event/37-generalversammlung/
LOCATION:Restaurant Golf Aarau-West\, Muhenstrasse 58\, Oberentfelden\, AG\, 5036\, Switzerland
ATTACH;FMTTYPE=image/jpeg:https://www.tc-entfelden.ch/wp-content/uploads/2021/01/generalversammlung.jpg
END:VEVENT
BEGIN:VEVENT
DTSTART;VALUE=DATE:20251205
DTEND;VALUE=DATE:20251207
DTSTAMP:20260423T060530
CREATED:20250928T193236Z
LAST-MODIFIED:20250928T193600Z
UID:7415-1764892800-1765065599@www.tc-entfelden.ch
SUMMARY:Weihnachtsmarkt Unterentfelden 2025
DESCRIPTION:Am 5. und 6. Dezember 2025 wird der TC Entfelden wieder mit einem eigenen Crêpes- und Kaffee-Stand am Weihnachtsmarkt Unterentfelden präsent sein.
URL:https://www.tc-entfelden.ch/event/weihnachtsmarkt-2025/
LOCATION:AG
ATTACH;FMTTYPE=image/jpeg:https://www.tc-entfelden.ch/wp-content/uploads/2025/09/WhatsApp-Image-2025-09-19-at-14.55.00.jpeg
END:VEVENT
BEGIN:VEVENT
DTSTART;VALUE=DATE:20251115
DTEND;VALUE=DATE:20251116
DTSTAMP:20260423T060530
CREATED:20250928T192957Z
LAST-MODIFIED:20250928T193147Z
UID:7413-1763164800-1763251199@www.tc-entfelden.ch
SUMMARY:Saisonabschluss-Event 2025
DESCRIPTION:Am 15. November 2025 enden wir unsere Saison offiziell wieder mit einem Highlight\, nämlich unserem Saisonabschluss-Event.
URL:https://www.tc-entfelden.ch/event/saisonabschluss-2025/
LOCATION:AG
ATTACH;FMTTYPE=image/jpeg:https://www.tc-entfelden.ch/wp-content/uploads/2022/11/abschluss22_bowling_23.jpg
END:VEVENT
BEGIN:VEVENT
DTSTART;VALUE=DATE:20250906
DTEND;VALUE=DATE:20250907
DTSTAMP:20260423T060530
CREATED:20250725T083140Z
LAST-MODIFIED:20250725T083333Z
UID:7007-1757116800-1757203199@www.tc-entfelden.ch
SUMMARY:Mixed-Clubmeisterschaft 2025
DESCRIPTION:Lust auf einen locker-plauschigen Tennistag? Dann melde dich für unsere Mixed-Clubmeisterschaft vom 6. September an!
URL:https://www.tc-entfelden.ch/event/mixed-clubmeisterschaft-2025/
LOCATION:AG
ATTACH;FMTTYPE=image/jpeg:https://www.tc-entfelden.ch/wp-content/uploads/2021/04/IMG_2922.jpg
END:VEVENT
BEGIN:VEVENT
DTSTART;VALUE=DATE:20250823
DTEND;VALUE=DATE:20250824
DTSTAMP:20260423T060530
CREATED:20250725T082742Z
LAST-MODIFIED:20250725T083048Z
UID:7004-1755907200-1755993599@www.tc-entfelden.ch
SUMMARY:SUPER TCE-Day 2025
DESCRIPTION:Am Samstag 23. August 2025 heisst es wieder: Willkommen zum SUPER-TCE-Day des TC Entfelden! Mit dem Junioren-Event\, den Finalspielen der Clubmeisterschaften und Festbetrieb während dem ganzen Tag erwartet uns wiederum ein toller Event!
URL:https://www.tc-entfelden.ch/event/super-tce-day-2025/
LOCATION:AG
ATTACH;FMTTYPE=image/jpeg:https://www.tc-entfelden.ch/wp-content/uploads/2021/08/71I3663.jpg
END:VEVENT
BEGIN:VEVENT
DTSTART;VALUE=DATE:20250804
DTEND;VALUE=DATE:20250808
DTSTAMP:20260423T060530
CREATED:20250725T082128Z
LAST-MODIFIED:20250725T082556Z
UID:7000-1754265600-1754611199@www.tc-entfelden.ch
SUMMARY:Juniorencamp 2025
DESCRIPTION:Vom 4.-7. August 2025 findet das diesjährige TCE-Juniorencamp auf unserer Anlage statt\, welches in diesem Jahr durch die Lanz Tennis Academy organisiert wird. Herzlichen Dank an unseren Camp-Sponsor Aarolac AG aus Oberentfelden sowie der Jugendarbeit Entfelden für die Unterstützung.
URL:https://www.tc-entfelden.ch/event/juniorencamp-2025/
LOCATION:AG
ATTACH;FMTTYPE=image/jpeg:https://www.tc-entfelden.ch/wp-content/uploads/2022/08/super_tce-day_22_22.jpg
END:VEVENT
BEGIN:VEVENT
DTSTART;VALUE=DATE:20250528
DTEND;VALUE=DATE:20250629
DTSTAMP:20260423T060530
CREATED:20250528T051647Z
LAST-MODIFIED:20250528T052646Z
UID:6978-1748390400-1751155199@www.tc-entfelden.ch
SUMMARY:Juniorencamp 2025
DESCRIPTION:Vom 4. bis 7. August findet unser diesjähriges Juniorencamp statt. \nAnmeldeschluss ist der 28.6.2025 (max. 24 Kinder).
URL:https://www.tc-entfelden.ch/event/anfaengertraining-2025/
LOCATION:AG
ATTACH;FMTTYPE=image/jpeg:https://www.tc-entfelden.ch/wp-content/uploads/2022/08/super_tce-day_22_22.jpg
END:VEVENT
BEGIN:VEVENT
DTSTART;VALUE=DATE:20250526
DTEND;VALUE=DATE:20250604
DTSTAMP:20260423T060530
CREATED:20250528T051220Z
LAST-MODIFIED:20250528T052159Z
UID:6976-1748217600-1748995199@www.tc-entfelden.ch
SUMMARY:Clubmeisterschaften 2025
DESCRIPTION:Die Anmeldefrist läuft bis am 3. Juni 2025 und der Start erfolgt ab dem 9. Juni 2025.\nAchtung und bereits Vormerken: Die Finalspiele finden am SUPER-TCE-Day\, Samstag 23. August 2025 statt!
URL:https://www.tc-entfelden.ch/event/clubmeisterschaften-2025/
LOCATION:Tenniclub Entfelden\, Schützenrain\, Oberentfelden\, AG\, 5036\, Switzerland
ATTACH;FMTTYPE=image/jpeg:https://www.tc-entfelden.ch/wp-content/uploads/2025/04/2025-TCE-Eroeffnungsbrunch-53-scaled.jpg
END:VEVENT
BEGIN:VEVENT
DTSTART;VALUE=DATE:20250503
DTEND;VALUE=DATE:20250504
DTSTAMP:20260423T060530
CREATED:20250413T193255Z
LAST-MODIFIED:20250413T193423Z
UID:6873-1746230400-1746316799@www.tc-entfelden.ch
SUMMARY:Start Interclub 2025
DESCRIPTION:Am Wochenende des 3./4. Mai startet die Interclub Saison. Wir wünschen allen teilnehmenden Spielern eine gelungene und verletzungsfreie Saison!
URL:https://www.tc-entfelden.ch/event/start-interclub-copy/
LOCATION:AG
ATTACH;FMTTYPE=image/jpeg:https://www.tc-entfelden.ch/wp-content/uploads/2021/04/34919474_1675743475814506_563580338656247808_n.jpg
END:VEVENT
BEGIN:VEVENT
DTSTART;VALUE=DATE:20250501
DTEND;VALUE=DATE:20250704
DTSTAMP:20260423T060530
CREATED:20250413T192947Z
LAST-MODIFIED:20250528T051005Z
UID:6871-1746057600-1751587199@www.tc-entfelden.ch
SUMMARY:Anfängertennis für Neumitglieder 2025
DESCRIPTION:Für Neumitglieder findet unser Anfängertraining ab dem 1. Mai jeweils am Donnerstagabend von 20:00 bis 22:00 statt.
URL:https://www.tc-entfelden.ch/event/start-anfaengertraining-copy-3/
LOCATION:AG
ATTACH;FMTTYPE=image/jpeg:https://www.tc-entfelden.ch/wp-content/uploads/2021/01/IMG_3071-1.jpg
END:VEVENT
BEGIN:VEVENT
DTSTART;VALUE=DATE:20250427
DTEND;VALUE=DATE:20250428
DTSTAMP:20260423T060530
CREATED:20250413T192715Z
LAST-MODIFIED:20250413T192815Z
UID:6868-1745712000-1745798399@www.tc-entfelden.ch
SUMMARY:Saison-Eröffnungsturnier 2025
DESCRIPTION:Mit unserem beliebten Saison-Eröffnungsturnier mit Brunch starten wir offiziell in die neue Saison. Wir freuen uns ausserdem\, unsere Neumitglieder herzlich willkommen zu heissen.
URL:https://www.tc-entfelden.ch/event/31-generalversammlung-copy-copy-copy-2-copy/
LOCATION:Tenniclub Entfelden\, Schützenrain\, Oberentfelden\, AG\, 5036\, Switzerland
ATTACH;FMTTYPE=image/jpeg:https://www.tc-entfelden.ch/wp-content/uploads/2022/03/herzlich_willkommen_TCE.jpg
END:VEVENT
BEGIN:VEVENT
DTSTART;VALUE=DATE:20250421
DTEND;VALUE=DATE:20250422
DTSTAMP:20260423T060530
CREATED:20250307T082305Z
LAST-MODIFIED:20250307T082420Z
UID:6807-1745193600-1745279999@www.tc-entfelden.ch
SUMMARY:Start Junioren-/IC-Training 2025
DESCRIPTION:Unsere Junioren und Interclub-Mannschaften startet ihr Training voraussichtlich ab dem 21. April.
URL:https://www.tc-entfelden.ch/event/start-junioren-ic-training2025/
LOCATION:Tenniclub Entfelden\, Schützenrain\, Oberentfelden\, AG\, 5036\, Switzerland
ATTACH;FMTTYPE=image/jpeg:https://www.tc-entfelden.ch/wp-content/uploads/2021/01/juniorentraining.jpg
END:VEVENT
BEGIN:VEVENT
DTSTART;VALUE=DATE:20250405
DTEND;VALUE=DATE:20250406
DTSTAMP:20260423T060530
CREATED:20250307T082026Z
LAST-MODIFIED:20250307T082213Z
UID:6805-1743811200-1743897599@www.tc-entfelden.ch
SUMMARY:Platzeröffnung 2025 (wetterabhängig)
DESCRIPTION:Ab dem 5. April heisst es voraussichtlich wieder: Ready – Play!
URL:https://www.tc-entfelden.ch/event/platzeroeffnung2025/
LOCATION:Tenniclub Entfelden\, Schützenrain\, Oberentfelden\, AG\, 5036\, Switzerland
ATTACH;FMTTYPE=image/jpeg:https://www.tc-entfelden.ch/wp-content/uploads/2021/01/platzeroefnnung.jpg
END:VEVENT
BEGIN:VEVENT
DTSTART;VALUE=DATE:20250329
DTEND;VALUE=DATE:20250330
DTSTAMP:20260423T060530
CREATED:20250307T081558Z
LAST-MODIFIED:20250307T081837Z
UID:6803-1743206400-1743292799@www.tc-entfelden.ch
SUMMARY:Platzinstandstellung 2025
DESCRIPTION:Am 29. März wird unsere Anlage voraussichtlich wieder spieltauglich gemacht. Der Termin ist wetterabhängig.
URL:https://www.tc-entfelden.ch/event/platzinstandstellung2025/
LOCATION:Tenniclub Entfelden\, Schützenrain\, Oberentfelden\, AG\, 5036\, Switzerland
ATTACH;FMTTYPE=image/jpeg:https://www.tc-entfelden.ch/wp-content/uploads/2021/01/platzinstandsetzung.jpg
END:VEVENT
BEGIN:VEVENT
DTSTART;VALUE=DATE:20250220
DTEND;VALUE=DATE:20250221
DTSTAMP:20260423T060530
CREATED:20210105T160229Z
LAST-MODIFIED:20240221T091407Z
UID:2000-1740009600-1740095999@www.tc-entfelden.ch
SUMMARY:36. Generalversammlung
DESCRIPTION:Gerne laden wir sämtliche Mitglieder des TC Entfelden am 20. Februar 2025 zur 36. Generalversammlung ein.
URL:https://www.tc-entfelden.ch/event/31-generalversammlung/
LOCATION:Restaurant Golf Aarau-West\, Muhenstrasse 58\, Oberentfelden\, AG\, 5036\, Switzerland
ATTACH;FMTTYPE=image/jpeg:https://www.tc-entfelden.ch/wp-content/uploads/2021/01/generalversammlung.jpg
END:VEVENT
BEGIN:VEVENT
DTSTART;VALUE=DATE:20241102
DTEND;VALUE=DATE:20241103
DTSTAMP:20260423T060530
CREATED:20230303T174227Z
LAST-MODIFIED:20240221T091320Z
UID:2949-1730505600-1730591999@www.tc-entfelden.ch
SUMMARY:Saisonabschluss-Event
DESCRIPTION:Am 2. November enden wir unsere Saison offiziell wieder mit einem Highlight\, nämlich unserem Saisonabschluss-Event.
URL:https://www.tc-entfelden.ch/event/saisonabschluss-event/
LOCATION:AG
ATTACH;FMTTYPE=image/jpeg:https://www.tc-entfelden.ch/wp-content/uploads/2022/11/abschluss22_bowling_23.jpg
END:VEVENT
BEGIN:VEVENT
DTSTART;VALUE=DATE:20240907
DTEND;VALUE=DATE:20240908
DTSTAMP:20260423T060530
CREATED:20210416T095853Z
LAST-MODIFIED:20240221T091206Z
UID:2945-1725667200-1725753599@www.tc-entfelden.ch
SUMMARY:Mixed-Clubmeisterschaft
DESCRIPTION:Lust auf einen locker-plauschigen Tennistag? Dann melde dich für unsere Mixed-Clubmeisterschaft vom 7. September an!
URL:https://www.tc-entfelden.ch/event/mixed-clubmeisterschaft/
LOCATION:AG
ATTACH;FMTTYPE=image/jpeg:https://www.tc-entfelden.ch/wp-content/uploads/2021/04/IMG_2922.jpg
END:VEVENT
BEGIN:VEVENT
DTSTART;VALUE=DATE:20240824
DTEND;VALUE=DATE:20240825
DTSTAMP:20260423T060530
CREATED:20210416T095019Z
LAST-MODIFIED:20240221T091119Z
UID:2941-1724457600-1724543999@www.tc-entfelden.ch
SUMMARY:SUPER TCE-Day
DESCRIPTION:Volles Programm auch am diesjährigen SUPER TCE-DAY! Neben den Finalspielen der Clubmeisterschaften finden wiederum der Juniorenevent und unser Sponsorenanlass statt. Dies natürlich inklusive Festbetrieb. Wir freuen uns auf deinen Besuch!
URL:https://www.tc-entfelden.ch/event/super-tce-day/
LOCATION:AG
ATTACH;FMTTYPE=image/jpeg:https://www.tc-entfelden.ch/wp-content/uploads/2021/08/71I3663.jpg
END:VEVENT
BEGIN:VEVENT
DTSTART;VALUE=DATE:20240805
DTEND;VALUE=DATE:20240809
DTSTAMP:20260423T060530
CREATED:20220309T100435Z
LAST-MODIFIED:20240221T090933Z
UID:3796-1722816000-1723161599@www.tc-entfelden.ch
SUMMARY:Juniorencamp
DESCRIPTION:Vom 5. bis 8. August findet unser diesjähriges Juniorencamp statt.
URL:https://www.tc-entfelden.ch/event/start-anfaengertraining-copy/
LOCATION:AG
ATTACH;FMTTYPE=image/jpeg:https://www.tc-entfelden.ch/wp-content/uploads/2022/08/super_tce-day_22_22.jpg
END:VEVENT
BEGIN:VEVENT
DTSTART;VALUE=DATE:20240610
DTEND;VALUE=DATE:20240611
DTSTAMP:20260423T060530
CREATED:20210416T094230Z
LAST-MODIFIED:20240221T090835Z
UID:2937-1717977600-1718063999@www.tc-entfelden.ch
SUMMARY:Start Clubmeisterschaften
DESCRIPTION:Die diesjährigen Clubmeisterschaften beginnen für sämtliche Kategorien am 10. Juni. Bitte beachte den Anmeldeschluss vom 4. Juni! Die Auslosung erfolgt am 6. Juni.
URL:https://www.tc-entfelden.ch/event/start-clubmeisterschaften/
LOCATION:AG
ATTACH;FMTTYPE=image/jpeg:https://www.tc-entfelden.ch/wp-content/uploads/2021/04/2020-Finaltag-TCE-79_2.jpg
END:VEVENT
BEGIN:VEVENT
DTSTART;VALUE=DATE:20240609
DTEND;VALUE=DATE:20240610
DTSTAMP:20260423T060530
CREATED:20220612T071009Z
LAST-MODIFIED:20240221T090645Z
UID:3173-1717891200-1717977599@www.tc-entfelden.ch
SUMMARY:Start Junioren-Interclub
DESCRIPTION:Unsere Junioren beginnen ihre Interclub-Saison am 9. Juni. Wir wünschen viel Spass und Erfolg!
URL:https://www.tc-entfelden.ch/event/start-junioren-ic/
LOCATION:AG
ATTACH;FMTTYPE=image/jpeg:https://www.tc-entfelden.ch/wp-content/uploads/2021/01/platzeroefnnung.jpg
END:VEVENT
BEGIN:VEVENT
DTSTART;VALUE=DATE:20240504
DTEND;VALUE=DATE:20240505
DTSTAMP:20260423T060530
CREATED:20210416T093705Z
LAST-MODIFIED:20240221T090557Z
UID:2932-1714780800-1714867199@www.tc-entfelden.ch
SUMMARY:Start Interclub
DESCRIPTION:Am Wochenende des 4./5. Mai startet der Interclub der Aktiv-Mannschaften. Wir wünschen allen teilnehmenden Spielern eine gelungene und verletzungsfreie Saison!
URL:https://www.tc-entfelden.ch/event/start-interclub/
LOCATION:AG
ATTACH;FMTTYPE=image/jpeg:https://www.tc-entfelden.ch/wp-content/uploads/2021/04/34919474_1675743475814506_563580338656247808_n.jpg
END:VEVENT
BEGIN:VEVENT
DTSTART;VALUE=DATE:20240502
DTEND;VALUE=DATE:20240705
DTSTAMP:20260423T060530
CREATED:20210416T094535Z
LAST-MODIFIED:20240221T090502Z
UID:2939-1714608000-1720137599@www.tc-entfelden.ch
SUMMARY:Start Anfängertennis für Neumitglieder
DESCRIPTION:Für Neumitglieder startet unser Anfängertraining am 2. Mai und findet jeweils am Donnerstagabend statt.
URL:https://www.tc-entfelden.ch/event/start-anfaengertraining/
LOCATION:AG
ATTACH;FMTTYPE=image/jpeg:https://www.tc-entfelden.ch/wp-content/uploads/2021/01/IMG_3071-1.jpg
END:VEVENT
BEGIN:VEVENT
DTSTART;VALUE=DATE:20240428
DTEND;VALUE=DATE:20240429
DTSTAMP:20260423T060530
CREATED:20220309T093318Z
LAST-MODIFIED:20240221T090342Z
UID:3785-1714262400-1714348799@www.tc-entfelden.ch
SUMMARY:Saison-Eröffnungsturnier
DESCRIPTION:Mit unserem beliebten Saison-Eröffnungsturnier mit Brunch starten wir offiziell in die neue Saison. Wir freuen uns ausserdem\, unsere Neumitglieder herzlich willkommen zu heissen.
URL:https://www.tc-entfelden.ch/event/31-generalversammlung-copy-copy-copy-2/
LOCATION:Tenniclub Entfelden\, Schützenrain\, Oberentfelden\, AG\, 5036\, Switzerland
ATTACH;FMTTYPE=image/jpeg:https://www.tc-entfelden.ch/wp-content/uploads/2022/03/herzlich_willkommen_TCE.jpg
END:VEVENT
BEGIN:VEVENT
DTSTART;VALUE=DATE:20240422
DTEND;VALUE=DATE:20240423
DTSTAMP:20260423T060530
CREATED:20210107T120621Z
LAST-MODIFIED:20240221T090255Z
UID:2081-1713744000-1713830399@www.tc-entfelden.ch
SUMMARY:Start Junioren-/IC-Training
DESCRIPTION:Unsere Junioren und Interclub-Mannschaften startet ihr Training voraussichtlich am 22. April.
URL:https://www.tc-entfelden.ch/event/31-generalversammlung-copy-copy-copy/
LOCATION:Tenniclub Entfelden\, Schützenrain\, Oberentfelden\, AG\, 5036\, Switzerland
ATTACH;FMTTYPE=image/jpeg:https://www.tc-entfelden.ch/wp-content/uploads/2021/01/juniorentraining.jpg
END:VEVENT
BEGIN:VEVENT
DTSTART;VALUE=DATE:20240406
DTEND;VALUE=DATE:20240407
DTSTAMP:20260423T060530
CREATED:20210105T172824Z
LAST-MODIFIED:20240221T090134Z
UID:2010-1712361600-1712447999@www.tc-entfelden.ch
SUMMARY:Platzeröffnung (wetterabhängig)
DESCRIPTION:Ab 6. April heisst es voraussichtlich wieder: Ready – Play!
URL:https://www.tc-entfelden.ch/event/31-generalversammlung-copy-copy/
LOCATION:Tenniclub Entfelden\, Schützenrain\, Oberentfelden\, AG\, 5036\, Switzerland
ATTACH;FMTTYPE=image/jpeg:https://www.tc-entfelden.ch/wp-content/uploads/2021/01/platzeroefnnung.jpg
END:VEVENT
BEGIN:VEVENT
DTSTART;VALUE=DATE:20240330
DTEND;VALUE=DATE:20240331
DTSTAMP:20260423T060530
CREATED:20210330T172821Z
LAST-MODIFIED:20240221T090046Z
UID:2009-1711756800-1711843199@www.tc-entfelden.ch
SUMMARY:Platzinstandstellung
DESCRIPTION:Am 30. März wird unsere Anlage voraussichtlich wieder spieltauglich gemacht. Der Termin ist wetterabhängig.
URL:https://www.tc-entfelden.ch/event/31-generalversammlung-copy/
LOCATION:Tenniclub Entfelden\, Schützenrain\, Oberentfelden\, AG\, 5036\, Switzerland
ATTACH;FMTTYPE=image/jpeg:https://www.tc-entfelden.ch/wp-content/uploads/2021/01/platzinstandsetzung.jpg
END:VEVENT
BEGIN:VEVENT
DTSTART;VALUE=DATE:20240222
DTEND;VALUE=DATE:20240223
DTSTAMP:20260423T060530
CREATED:20240221T091339Z
LAST-MODIFIED:20240224T101755Z
UID:5996-1708560000-1708646399@www.tc-entfelden.ch
SUMMARY:35. Generalversammlung
DESCRIPTION:Gerne laden wir sämtliche Mitglieder des TC Entfelden am 22. Februar 2024 zur 35. Generalversammlung ein.
URL:https://www.tc-entfelden.ch/event/31-generalversammlung-copy-2/
LOCATION:Restaurant Golf Aarau-West\, Muhenstrasse 58\, Oberentfelden\, AG\, 5036\, Switzerland
ATTACH;FMTTYPE=image/jpeg:https://www.tc-entfelden.ch/wp-content/uploads/2021/01/generalversammlung.jpg
END:VEVENT
BEGIN:VEVENT
DTSTART;VALUE=DATE:20230712
DTEND;VALUE=DATE:20231012
DTSTAMP:20260423T060530
CREATED:20230303T173739Z
LAST-MODIFIED:20230303T174437Z
UID:5175-1689120000-1697068799@www.tc-entfelden.ch
SUMMARY:Start Anfängertennis
DESCRIPTION:Teil 2 unseres Anfängertrainings beginnt am 12. Juli und findet jeweils am Mittwochabend statt.
URL:https://www.tc-entfelden.ch/event/start-anfaengertraining-copy-2/
LOCATION:AG
ATTACH;FMTTYPE=image/jpeg:https://www.tc-entfelden.ch/wp-content/uploads/2021/01/IMG_3071-1.jpg
END:VEVENT
END:VCALENDAR