BEGIN:VCALENDAR
VERSION:2.0
PRODID:-//Tennisclub Entfelden - ECPv6.15.20//NONSGML v1.0//EN
CALSCALE:GREGORIAN
METHOD:PUBLISH
X-WR-CALNAME:Tennisclub Entfelden
X-ORIGINAL-URL:https://www.tc-entfelden.ch
X-WR-CALDESC:Veranstaltungen im Tennisclub Entfelden
REFRESH-INTERVAL;VALUE=DURATION:PT1H
X-Robots-Tag:noindex
X-PUBLISHED-TTL:PT1H
BEGIN:VTIMEZONE
TZID:Europe/Zurich
BEGIN:DAYLIGHT
TZOFFSETFROM:+0100
TZOFFSETTO:+0200
TZNAME:CEST
DTSTART:20230326T010000
END:DAYLIGHT
BEGIN:STANDARD
TZOFFSETFROM:+0200
TZOFFSETTO:+0100
TZNAME:CET
DTSTART:20231029T010000
END:STANDARD
BEGIN:DAYLIGHT
TZOFFSETFROM:+0100
TZOFFSETTO:+0200
TZNAME:CEST
DTSTART:20240331T010000
END:DAYLIGHT
BEGIN:STANDARD
TZOFFSETFROM:+0200
TZOFFSETTO:+0100
TZNAME:CET
DTSTART:20241027T010000
END:STANDARD
BEGIN:DAYLIGHT
TZOFFSETFROM:+0100
TZOFFSETTO:+0200
TZNAME:CEST
DTSTART:20250330T010000
END:DAYLIGHT
BEGIN:STANDARD
TZOFFSETFROM:+0200
TZOFFSETTO:+0100
TZNAME:CET
DTSTART:20251026T010000
END:STANDARD
END:VTIMEZONE
BEGIN:VTIMEZONE
TZID:UTC
BEGIN:STANDARD
TZOFFSETFROM:+0000
TZOFFSETTO:+0000
TZNAME:UTC
DTSTART:20220101T000000
END:STANDARD
END:VTIMEZONE
BEGIN:VEVENT
DTSTART;VALUE=DATE:20240422
DTEND;VALUE=DATE:20240423
DTSTAMP:20260423T090812
CREATED:20210107T120621Z
LAST-MODIFIED:20240221T090255Z
UID:2081-1713744000-1713830399@www.tc-entfelden.ch
SUMMARY:Start Junioren-/IC-Training
DESCRIPTION:Unsere Junioren und Interclub-Mannschaften startet ihr Training voraussichtlich am 22. April.
URL:https://www.tc-entfelden.ch/event/31-generalversammlung-copy-copy-copy/
LOCATION:Tenniclub Entfelden\, Schützenrain\, Oberentfelden\, AG\, 5036\, Switzerland
ATTACH;FMTTYPE=image/jpeg:https://www.tc-entfelden.ch/wp-content/uploads/2021/01/juniorentraining.jpg
END:VEVENT
BEGIN:VEVENT
DTSTART;VALUE=DATE:20240406
DTEND;VALUE=DATE:20240407
DTSTAMP:20260423T090812
CREATED:20210105T172824Z
LAST-MODIFIED:20240221T090134Z
UID:2010-1712361600-1712447999@www.tc-entfelden.ch
SUMMARY:Platzeröffnung (wetterabhängig)
DESCRIPTION:Ab 6. April heisst es voraussichtlich wieder: Ready – Play!
URL:https://www.tc-entfelden.ch/event/31-generalversammlung-copy-copy/
LOCATION:Tenniclub Entfelden\, Schützenrain\, Oberentfelden\, AG\, 5036\, Switzerland
ATTACH;FMTTYPE=image/jpeg:https://www.tc-entfelden.ch/wp-content/uploads/2021/01/platzeroefnnung.jpg
END:VEVENT
BEGIN:VEVENT
DTSTART;VALUE=DATE:20240330
DTEND;VALUE=DATE:20240331
DTSTAMP:20260423T090812
CREATED:20210330T172821Z
LAST-MODIFIED:20240221T090046Z
UID:2009-1711756800-1711843199@www.tc-entfelden.ch
SUMMARY:Platzinstandstellung
DESCRIPTION:Am 30. März wird unsere Anlage voraussichtlich wieder spieltauglich gemacht. Der Termin ist wetterabhängig.
URL:https://www.tc-entfelden.ch/event/31-generalversammlung-copy/
LOCATION:Tenniclub Entfelden\, Schützenrain\, Oberentfelden\, AG\, 5036\, Switzerland
ATTACH;FMTTYPE=image/jpeg:https://www.tc-entfelden.ch/wp-content/uploads/2021/01/platzinstandsetzung.jpg
END:VEVENT
BEGIN:VEVENT
DTSTART;VALUE=DATE:20240222
DTEND;VALUE=DATE:20240223
DTSTAMP:20260423T090812
CREATED:20240221T091339Z
LAST-MODIFIED:20240224T101755Z
UID:5996-1708560000-1708646399@www.tc-entfelden.ch
SUMMARY:35. Generalversammlung
DESCRIPTION:Gerne laden wir sämtliche Mitglieder des TC Entfelden am 22. Februar 2024 zur 35. Generalversammlung ein.
URL:https://www.tc-entfelden.ch/event/31-generalversammlung-copy-2/
LOCATION:Restaurant Golf Aarau-West\, Muhenstrasse 58\, Oberentfelden\, AG\, 5036\, Switzerland
ATTACH;FMTTYPE=image/jpeg:https://www.tc-entfelden.ch/wp-content/uploads/2021/01/generalversammlung.jpg
END:VEVENT
BEGIN:VEVENT
DTSTART;VALUE=DATE:20230712
DTEND;VALUE=DATE:20231012
DTSTAMP:20260423T090812
CREATED:20230303T173739Z
LAST-MODIFIED:20230303T174437Z
UID:5175-1689120000-1697068799@www.tc-entfelden.ch
SUMMARY:Start Anfängertennis
DESCRIPTION:Teil 2 unseres Anfängertrainings beginnt am 12. Juli und findet jeweils am Mittwochabend statt.
URL:https://www.tc-entfelden.ch/event/start-anfaengertraining-copy-2/
ATTACH;FMTTYPE=image/jpeg:https://www.tc-entfelden.ch/wp-content/uploads/2021/01/IMG_3071-1.jpg
END:VEVENT
END:VCALENDAR